Package: DMCFB Version: 1.21.0 Command: rm -rf DMCFB.buildbin-libdir && mkdir DMCFB.buildbin-libdir && /Users/biocbuild/BBS/utils/build-universal.sh DMCFB_1.21.0.tar.gz /Library/Frameworks/R.framework/Resources/bin/R DMCFB.buildbin-libdir StartedAt: 2025-02-10 00:50:59 -0500 (Mon, 10 Feb 2025) EndedAt: 2025-02-10 00:51:52 -0500 (Mon, 10 Feb 2025) EllapsedTime: 53.3 seconds RetCode: 0 Status: OK PackageFile: DMCFB_1.21.0.tgz PackageFileSize: 1.207 MiB