Package: DMCFB Version: 1.21.0 Command: /Library/Frameworks/R.framework/Resources/bin/R CMD build --keep-empty-dirs --no-resave-data DMCFB StartedAt: 2025-02-09 16:35:58 -0500 (Sun, 09 Feb 2025) EndedAt: 2025-02-09 16:37:40 -0500 (Sun, 09 Feb 2025) EllapsedTime: 101.6 seconds RetCode: 0 Status: OK PackageFile: DMCFB_1.21.0.tar.gz PackageFileSize: 1.066 MiB