Package: DMCFB Version: 1.21.0 Command: /home/biocbuild/bbs-3.21-bioc/R/bin/R CMD build --keep-empty-dirs --no-resave-data DMCFB StartedAt: 2025-02-09 17:02:41 -0500 (Sun, 09 Feb 2025) EndedAt: 2025-02-09 17:04:00 -0500 (Sun, 09 Feb 2025) EllapsedTime: 79.1 seconds RetCode: 0 Status: OK PackageFile: DMCFB_1.21.0.tar.gz PackageFileSize: 1.054 MiB