Package: DMCFB Version: 1.21.0 Command: /home/biocbuild/bbs-3.21-bioc/R/bin/R CMD INSTALL DMCFB StartedAt: 2025-02-04 15:24:35 -0500 (Tue, 04 Feb 2025) EndedAt: 2025-02-04 15:25:09 -0500 (Tue, 04 Feb 2025) EllapsedTime: 34.7 seconds RetCode: 0 Status: OK