Package: DMCFB Version: 1.21.0 Command: rm -rf DMCFB.buildbin-libdir && mkdir DMCFB.buildbin-libdir && E:\biocbuild\bbs-3.21-bioc\R\bin\R.exe CMD INSTALL --build --library=DMCFB.buildbin-libdir DMCFB_1.21.0.tar.gz StartedAt: 2025-02-10 07:38:36 -0500 (Mon, 10 Feb 2025) EndedAt: 2025-02-10 07:39:26 -0500 (Mon, 10 Feb 2025) EllapsedTime: 50.5 seconds RetCode: 0 Status: OK PackageFile: DMCFB_1.21.0.zip PackageFileSize: 1.077 MiB