Package: DMCFB Version: 1.21.0 Command: chmod a+r DMCFB -R && E:\biocbuild\bbs-3.21-bioc\R\bin\R.exe CMD build --keep-empty-dirs --no-resave-data DMCFB StartedAt: 2025-02-04 18:25:19 -0500 (Tue, 04 Feb 2025) EndedAt: 2025-02-04 18:27:04 -0500 (Tue, 04 Feb 2025) EllapsedTime: 105.5 seconds RetCode: 0 Status: OK PackageFile: DMCFB_1.21.0.tar.gz PackageFileSize: 971 KiB