Package: DMCHMM Version: 1.29.0 Command: /Library/Frameworks/R.framework/Resources/bin/R CMD build --keep-empty-dirs --no-resave-data DMCHMM StartedAt: 2025-02-09 16:09:42 -0500 (Sun, 09 Feb 2025) EndedAt: 2025-02-09 16:10:12 -0500 (Sun, 09 Feb 2025) EllapsedTime: 30.3 seconds RetCode: 0 Status: OK PackageFile: DMCHMM_1.29.0.tar.gz PackageFileSize: 743.6 KiB