Package: DMCHMM Version: 1.29.0 Command: /Library/Frameworks/R.framework/Resources/bin/R CMD INSTALL DMCHMM StartedAt: 2025-02-12 15:21:18 -0500 (Wed, 12 Feb 2025) EndedAt: 2025-02-12 15:21:31 -0500 (Wed, 12 Feb 2025) EllapsedTime: 13.8 seconds RetCode: 0 Status: OK