Package: DMCHMM Version: 1.29.0 Command: /home/biocbuild/R/R/bin/R CMD build --keep-empty-dirs --no-resave-data DMCHMM StartedAt: 2025-01-28 22:31:18 -0000 (Tue, 28 Jan 2025) EndedAt: 2025-01-28 22:33:03 -0000 (Tue, 28 Jan 2025) EllapsedTime: 105.0 seconds RetCode: 0 Status: OK PackageFile: DMCHMM_1.29.0.tar.gz PackageFileSize: 744.3 KiB