Package: DMCHMM Version: 1.29.0 Command: /Library/Frameworks/R.framework/Resources/bin/R CMD build --keep-empty-dirs --no-resave-data DMCHMM StartedAt: 2025-02-04 16:32:47 -0500 (Tue, 04 Feb 2025) EndedAt: 2025-02-04 16:34:15 -0500 (Tue, 04 Feb 2025) EllapsedTime: 87.9 seconds RetCode: 0 Status: OK PackageFile: DMCHMM_1.29.0.tar.gz PackageFileSize: 743.7 KiB