Package: DMCHMM Version: 1.29.0 Command: /home/biocbuild/bbs-3.21-bioc/R/bin/R CMD build --keep-empty-dirs --no-resave-data DMCHMM StartedAt: 2025-02-09 17:02:45 -0500 (Sun, 09 Feb 2025) EndedAt: 2025-02-09 17:04:03 -0500 (Sun, 09 Feb 2025) EllapsedTime: 78.1 seconds RetCode: 0 Status: OK PackageFile: DMCHMM_1.29.0.tar.gz PackageFileSize: 743.8 KiB