Package: DMCHMM Version: 1.29.0 Command: rm -rf DMCHMM.buildbin-libdir && mkdir DMCHMM.buildbin-libdir && E:\biocbuild\bbs-3.21-bioc\R\bin\R.exe CMD INSTALL --build --library=DMCHMM.buildbin-libdir DMCHMM_1.29.0.tar.gz StartedAt: 2025-02-10 07:38:42 -0500 (Mon, 10 Feb 2025) EndedAt: 2025-02-10 07:39:34 -0500 (Mon, 10 Feb 2025) EllapsedTime: 52.3 seconds RetCode: 0 Status: OK PackageFile: DMCHMM_1.29.0.zip PackageFileSize: 954.9 KiB