Package: DMCHMM Version: 1.29.0 Command: chmod a+r DMCHMM -R && E:\biocbuild\bbs-3.21-bioc\R\bin\R.exe CMD build --keep-empty-dirs --no-resave-data DMCHMM StartedAt: 2025-02-09 18:24:52 -0500 (Sun, 09 Feb 2025) EndedAt: 2025-02-09 18:27:16 -0500 (Sun, 09 Feb 2025) EllapsedTime: 143.4 seconds RetCode: 0 Status: OK PackageFile: DMCHMM_1.29.0.tar.gz PackageFileSize: 743.9 KiB