Package: DMRcaller Version: 1.39.0 Command: /Library/Frameworks/R.framework/Resources/bin/R CMD build --keep-empty-dirs --no-resave-data DMRcaller StartedAt: 2025-02-09 16:09:43 -0500 (Sun, 09 Feb 2025) EndedAt: 2025-02-09 16:10:10 -0500 (Sun, 09 Feb 2025) EllapsedTime: 27.3 seconds RetCode: 0 Status: OK PackageFile: DMRcaller_1.39.0.tar.gz PackageFileSize: 1.633 MiB