Package: DMRcaller Version: 1.39.0 Command: /Library/Frameworks/R.framework/Resources/bin/R CMD check --install=check:DMRcaller.install-out.txt --library=/Library/Frameworks/R.framework/Resources/library --no-vignettes --timings DMRcaller_1.39.0.tar.gz StartedAt: 2025-02-09 18:59:56 -0500 (Sun, 09 Feb 2025) EndedAt: 2025-02-09 19:01:34 -0500 (Sun, 09 Feb 2025) EllapsedTime: 98.2 seconds RetCode: 0 Status: OK CheckDir: DMRcaller.Rcheck Warnings: 0