Package: DMRcaller Version: 1.39.0 Command: /Library/Frameworks/R.framework/Resources/bin/R CMD INSTALL DMRcaller StartedAt: 2025-02-12 15:04:01 -0500 (Wed, 12 Feb 2025) EndedAt: 2025-02-12 15:04:07 -0500 (Wed, 12 Feb 2025) EllapsedTime: 5.6 seconds RetCode: 0 Status: OK