Package: DMRcaller Version: 1.39.0 Command: chmod a+r DMRcaller -R && E:\biocbuild\bbs-3.21-bioc\R\bin\R.exe CMD build --keep-empty-dirs --no-resave-data DMRcaller StartedAt: 2025-02-12 18:28:32 -0500 (Wed, 12 Feb 2025) EndedAt: 2025-02-12 18:30:15 -0500 (Wed, 12 Feb 2025) EllapsedTime: 102.7 seconds RetCode: 0 Status: OK PackageFile: DMRcaller_1.39.0.tar.gz PackageFileSize: 1.624 MiB