Package: DMRcaller Version: 1.39.0 Command: E:\biocbuild\bbs-3.21-bioc\R\bin\R.exe CMD INSTALL DMRcaller StartedAt: 2025-02-12 15:38:53 -0500 (Wed, 12 Feb 2025) EndedAt: 2025-02-12 15:39:29 -0500 (Wed, 12 Feb 2025) EllapsedTime: 35.5 seconds RetCode: 0 Status: OK