Package: DNABarcodeCompatibility Version: 1.23.0 Command: /home/biocbuild/R/R/bin/R CMD build --keep-empty-dirs --no-resave-data DNABarcodeCompatibility StartedAt: 2025-01-28 22:32:57 -0000 (Tue, 28 Jan 2025) EndedAt: 2025-01-28 22:34:43 -0000 (Tue, 28 Jan 2025) EllapsedTime: 106.0 seconds RetCode: 0 Status: OK PackageFile: DNABarcodeCompatibility_1.23.0.tar.gz PackageFileSize: 285 KiB