Package: DNABarcodeCompatibility Version: 1.23.0 Command: /home/biocbuild/R/R/bin/R CMD check --install=check:DNABarcodeCompatibility.install-out.txt --library=/home/biocbuild/R/R/site-library --no-vignettes --timings DNABarcodeCompatibility_1.23.0.tar.gz StartedAt: 2025-01-28 10:05:09 -0000 (Tue, 28 Jan 2025) EndedAt: 2025-01-28 10:05:55 -0000 (Tue, 28 Jan 2025) EllapsedTime: 46.1 seconds RetCode: 0 Status: OK CheckDir: DNABarcodeCompatibility.Rcheck Warnings: 0