Package: DNABarcodeCompatibility Version: 1.23.0 Command: /home/biocbuild/bbs-3.21-bioc/R/bin/R CMD check --install=check:DNABarcodeCompatibility.install-out.txt --library=/home/biocbuild/bbs-3.21-bioc/R/site-library --timings DNABarcodeCompatibility_1.23.0.tar.gz StartedAt: 2025-02-09 21:52:47 -0500 (Sun, 09 Feb 2025) EndedAt: 2025-02-09 21:54:00 -0500 (Sun, 09 Feb 2025) EllapsedTime: 73.1 seconds RetCode: 0 Status: OK CheckDir: DNABarcodeCompatibility.Rcheck Warnings: 0