Package: DNABarcodes Version: 1.37.0 Command: /Library/Frameworks/R.framework/Resources/bin/R CMD INSTALL DNABarcodes StartedAt: 2025-02-04 15:19:30 -0500 (Tue, 04 Feb 2025) EndedAt: 2025-02-04 15:19:49 -0500 (Tue, 04 Feb 2025) EllapsedTime: 18.9 seconds RetCode: 0 Status: OK