Package: DNABarcodes Version: 1.37.0 Command: /Library/Frameworks/R.framework/Resources/bin/R CMD build --keep-empty-dirs --no-resave-data DNABarcodes StartedAt: 2025-02-04 16:33:03 -0500 (Tue, 04 Feb 2025) EndedAt: 2025-02-04 16:34:27 -0500 (Tue, 04 Feb 2025) EllapsedTime: 84.6 seconds RetCode: 0 Status: OK PackageFile: DNABarcodes_1.37.0.tar.gz PackageFileSize: 347.8 KiB