Package: DNABarcodes Version: 1.37.0 Command: /Library/Frameworks/R.framework/Resources/bin/R CMD INSTALL DNABarcodes StartedAt: 2025-02-09 15:31:17 -0500 (Sun, 09 Feb 2025) EndedAt: 2025-02-09 15:32:31 -0500 (Sun, 09 Feb 2025) EllapsedTime: 74.6 seconds RetCode: 0 Status: OK