Package: DNABarcodes Version: 1.37.0 Command: /home/biocbuild/bbs-3.21-bioc/R/bin/R CMD build --keep-empty-dirs --no-resave-data DNABarcodes StartedAt: 2025-02-04 17:01:25 -0500 (Tue, 04 Feb 2025) EndedAt: 2025-02-04 17:02:41 -0500 (Tue, 04 Feb 2025) EllapsedTime: 76.1 seconds RetCode: 0 Status: OK PackageFile: DNABarcodes_1.37.0.tar.gz PackageFileSize: 347.8 KiB