Package: DNABarcodes Version: 1.37.0 Command: /home/biocbuild/bbs-3.21-bioc/R/bin/R CMD INSTALL DNABarcodes StartedAt: 2025-02-04 15:04:00 -0500 (Tue, 04 Feb 2025) EndedAt: 2025-02-04 15:05:16 -0500 (Tue, 04 Feb 2025) EllapsedTime: 75.5 seconds RetCode: 0 Status: OK