Package: DNABarcodes Version: 1.37.0 Command: rm -rf DNABarcodes.buildbin-libdir && mkdir DNABarcodes.buildbin-libdir && E:\biocbuild\bbs-3.21-bioc\R\bin\R.exe CMD INSTALL --build --library=DNABarcodes.buildbin-libdir DNABarcodes_1.37.0.tar.gz StartedAt: 2025-02-10 07:39:02 -0500 (Mon, 10 Feb 2025) EndedAt: 2025-02-10 07:40:30 -0500 (Mon, 10 Feb 2025) EllapsedTime: 88.7 seconds RetCode: 0 Status: OK PackageFile: DNABarcodes_1.37.0.zip PackageFileSize: 886.6 KiB