Package: DNABarcodes Version: 1.37.0 Command: E:\biocbuild\bbs-3.21-bioc\R\bin\R.exe CMD INSTALL DNABarcodes StartedAt: 2025-02-09 15:54:42 -0500 (Sun, 09 Feb 2025) EndedAt: 2025-02-09 15:56:36 -0500 (Sun, 09 Feb 2025) EllapsedTime: 113.6 seconds RetCode: 0 Status: OK