Package: DNAcopy Version: 1.81.0 Command: rm -rf DNAcopy.buildbin-libdir && mkdir DNAcopy.buildbin-libdir && /Users/biocbuild/BBS/utils/build-universal.sh DNAcopy_1.81.0.tar.gz /Library/Frameworks/R.framework/Resources/bin/R DNAcopy.buildbin-libdir StartedAt: 2025-02-09 22:12:42 -0500 (Sun, 09 Feb 2025) EndedAt: 2025-02-09 22:12:46 -0500 (Sun, 09 Feb 2025) EllapsedTime: 4.1 seconds RetCode: 0 Status: OK PackageFile: DNAcopy_1.81.0.tgz PackageFileSize: 499.9 KiB