Package: DNAcopy Version: 1.81.0 Command: /Library/Frameworks/R.framework/Resources/bin/R CMD check --install=check:DNAcopy.install-out.txt --library=/Library/Frameworks/R.framework/Resources/library --no-vignettes --timings DNAcopy_1.81.0.tar.gz StartedAt: 2025-02-09 19:00:32 -0500 (Sun, 09 Feb 2025) EndedAt: 2025-02-09 19:00:49 -0500 (Sun, 09 Feb 2025) EllapsedTime: 16.2 seconds RetCode: 0 Status: OK CheckDir: DNAcopy.Rcheck Warnings: 0