Package: DNAcopy Version: 1.81.0 Command: rm -rf DNAcopy.buildbin-libdir && mkdir DNAcopy.buildbin-libdir && /Users/biocbuild/BBS/utils/build-universal.sh DNAcopy_1.81.0.tar.gz /Library/Frameworks/R.framework/Resources/bin/R DNAcopy.buildbin-libdir StartedAt: 2025-02-05 00:37:36 -0500 (Wed, 05 Feb 2025) EndedAt: 2025-02-05 00:37:49 -0500 (Wed, 05 Feb 2025) EllapsedTime: 12.6 seconds RetCode: 0 Status: OK PackageFile: DNAcopy_1.81.0.tgz PackageFileSize: 498.6 KiB