Package: DNAcopy Version: 1.81.0 Command: /home/biocbuild/bbs-3.21-bioc/R/bin/R CMD check --install=check:DNAcopy.install-out.txt --library=/home/biocbuild/bbs-3.21-bioc/R/site-library --timings DNAcopy_1.81.0.tar.gz StartedAt: 2025-02-04 21:51:58 -0500 (Tue, 04 Feb 2025) EndedAt: 2025-02-04 21:52:24 -0500 (Tue, 04 Feb 2025) EllapsedTime: 26.0 seconds RetCode: 0 Status: OK CheckDir: DNAcopy.Rcheck Warnings: 0