Package: DNAcopy Version: 1.81.0 Command: chmod a+r DNAcopy -R && E:\biocbuild\bbs-3.21-bioc\R\bin\R.exe CMD build --keep-empty-dirs --no-resave-data DNAcopy StartedAt: 2025-02-04 18:27:06 -0500 (Tue, 04 Feb 2025) EndedAt: 2025-02-04 18:27:37 -0500 (Tue, 04 Feb 2025) EllapsedTime: 31.1 seconds RetCode: 0 Status: OK PackageFile: DNAcopy_1.81.0.tar.gz PackageFileSize: 291.8 KiB