Package: DNAcopy Version: 1.81.0 Command: E:\biocbuild\bbs-3.21-bioc\R\bin\R.exe CMD check --no-multiarch --install=check:DNAcopy.install-out.txt --library=E:\biocbuild\bbs-3.21-bioc\R\library --no-vignettes --timings DNAcopy_1.81.0.tar.gz StartedAt: 2025-02-05 01:05:12 -0500 (Wed, 05 Feb 2025) EndedAt: 2025-02-05 01:05:55 -0500 (Wed, 05 Feb 2025) EllapsedTime: 42.9 seconds RetCode: 0 Status: OK CheckDir: DNAcopy.Rcheck Warnings: 0