Package: DNAcopy Version: 1.81.0 Command: E:\biocbuild\bbs-3.21-bioc\R\bin\R.exe CMD INSTALL DNAcopy StartedAt: 2025-02-09 15:18:23 -0500 (Sun, 09 Feb 2025) EndedAt: 2025-02-09 15:18:54 -0500 (Sun, 09 Feb 2025) EllapsedTime: 30.3 seconds RetCode: 0 Status: OK