Package: DNAshapeR Version: 1.35.0 Command: /Library/Frameworks/R.framework/Resources/bin/R CMD build --keep-empty-dirs --no-resave-data DNAshapeR StartedAt: 2025-02-09 16:10:25 -0500 (Sun, 09 Feb 2025) EndedAt: 2025-02-09 16:10:48 -0500 (Sun, 09 Feb 2025) EllapsedTime: 23.2 seconds RetCode: 0 Status: OK PackageFile: DNAshapeR_1.35.0.tar.gz PackageFileSize: 1.138 MiB