Package: DNAshapeR Version: 1.35.0 Command: /home/biocbuild/R/R/bin/R CMD build --keep-empty-dirs --no-resave-data DNAshapeR StartedAt: 2025-01-28 22:33:14 -0000 (Tue, 28 Jan 2025) EndedAt: 2025-01-28 22:34:43 -0000 (Tue, 28 Jan 2025) EllapsedTime: 89.0 seconds RetCode: 0 Status: OK PackageFile: DNAshapeR_1.35.0.tar.gz PackageFileSize: 1.003 MiB