Package: DNAshapeR Version: 1.35.0 Command: rm -rf DNAshapeR.buildbin-libdir && mkdir DNAshapeR.buildbin-libdir && /Users/biocbuild/BBS/utils/build-universal.sh DNAshapeR_1.35.0.tar.gz /Library/Frameworks/R.framework/Resources/bin/R DNAshapeR.buildbin-libdir StartedAt: 2025-02-10 00:51:10 -0500 (Mon, 10 Feb 2025) EndedAt: 2025-02-10 00:52:02 -0500 (Mon, 10 Feb 2025) EllapsedTime: 52.1 seconds RetCode: 0 Status: OK PackageFile: DNAshapeR_1.35.0.tgz PackageFileSize: 1.308 MiB