Package: DNAshapeR Version: 1.35.0 Command: rm -rf DNAshapeR.buildbin-libdir && mkdir DNAshapeR.buildbin-libdir && E:\biocbuild\bbs-3.21-bioc\R\bin\R.exe CMD INSTALL --build --library=DNAshapeR.buildbin-libdir DNAshapeR_1.35.0.tar.gz StartedAt: 2025-02-10 07:39:06 -0500 (Mon, 10 Feb 2025) EndedAt: 2025-02-10 07:39:58 -0500 (Mon, 10 Feb 2025) EllapsedTime: 52.4 seconds RetCode: 0 Status: OK PackageFile: DNAshapeR_1.35.0.zip PackageFileSize: 1.439 MiB