Package: DNAshapeR Version: 1.35.0 Command: chmod a+r DNAshapeR -R && E:\biocbuild\bbs-3.21-bioc\R\bin\R.exe CMD build --keep-empty-dirs --no-resave-data DNAshapeR StartedAt: 2025-02-09 18:26:22 -0500 (Sun, 09 Feb 2025) EndedAt: 2025-02-09 18:29:36 -0500 (Sun, 09 Feb 2025) EllapsedTime: 194.9 seconds RetCode: 0 Status: OK PackageFile: DNAshapeR_1.35.0.tar.gz PackageFileSize: 994.5 KiB