Package: DSS Version: 2.55.0 Command: /Library/Frameworks/R.framework/Resources/bin/R CMD build --keep-empty-dirs --no-resave-data DSS StartedAt: 2025-02-03 16:39:15 -0500 (Mon, 03 Feb 2025) EndedAt: 2025-02-03 16:40:22 -0500 (Mon, 03 Feb 2025) EllapsedTime: 67.5 seconds RetCode: 0 Status: OK PackageFile: DSS_2.55.0.tar.gz PackageFileSize: 2.029 MiB