Package: DSS Version: 2.55.0 Command: /Library/Frameworks/R.framework/Resources/bin/R CMD check --install=check:DSS.install-out.txt --library=/Library/Frameworks/R.framework/Resources/library --no-vignettes --timings DSS_2.55.0.tar.gz StartedAt: 2025-02-09 20:26:20 -0500 (Sun, 09 Feb 2025) EndedAt: 2025-02-09 20:31:32 -0500 (Sun, 09 Feb 2025) EllapsedTime: 312.5 seconds RetCode: 0 Status: WARNINGS CheckDir: DSS.Rcheck Warnings: 1