Package: DSS Version: 2.55.0 Command: /Library/Frameworks/R.framework/Resources/bin/R CMD INSTALL DSS StartedAt: 2025-02-09 15:20:57 -0500 (Sun, 09 Feb 2025) EndedAt: 2025-02-09 15:21:53 -0500 (Sun, 09 Feb 2025) EllapsedTime: 55.8 seconds RetCode: 0 Status: OK