Package: DSS Version: 2.55.0 Command: /home/biocbuild/bbs-3.21-bioc/R/bin/R CMD check --install=check:DSS.install-out.txt --library=/home/biocbuild/bbs-3.21-bioc/R/site-library --timings DSS_2.55.0.tar.gz StartedAt: 2025-02-09 21:56:55 -0500 (Sun, 09 Feb 2025) EndedAt: 2025-02-09 22:01:54 -0500 (Sun, 09 Feb 2025) EllapsedTime: 298.4 seconds RetCode: 0 Status: WARNINGS CheckDir: DSS.Rcheck Warnings: 1