Package: DSS Version: 2.55.0 Command: /home/biocbuild/bbs-3.21-bioc/R/bin/R CMD INSTALL DSS StartedAt: 2025-02-09 15:35:36 -0500 (Sun, 09 Feb 2025) EndedAt: 2025-02-09 15:36:16 -0500 (Sun, 09 Feb 2025) EllapsedTime: 40.1 seconds RetCode: 0 Status: OK