Package: DSS Version: 2.55.0 Command: rm -rf DSS.buildbin-libdir && mkdir DSS.buildbin-libdir && E:\biocbuild\bbs-3.21-bioc\R\bin\R.exe CMD INSTALL --build --library=DSS.buildbin-libdir DSS_2.55.0.tar.gz StartedAt: 2025-02-04 07:53:33 -0500 (Tue, 04 Feb 2025) EndedAt: 2025-02-04 07:54:32 -0500 (Tue, 04 Feb 2025) EllapsedTime: 59.0 seconds RetCode: 0 Status: OK PackageFile: DSS_2.55.0.zip PackageFileSize: 1.605 MiB