Package: DSS Version: 2.55.0 Command: chmod a+r DSS -R && E:\biocbuild\bbs-3.21-bioc\R\bin\R.exe CMD build --keep-empty-dirs --no-resave-data DSS StartedAt: 2025-02-03 18:40:18 -0500 (Mon, 03 Feb 2025) EndedAt: 2025-02-03 18:41:39 -0500 (Mon, 03 Feb 2025) EllapsedTime: 80.9 seconds RetCode: 0 Status: OK PackageFile: DSS_2.55.0.tar.gz PackageFileSize: 2.03 MiB