Package: DSS Version: 2.55.0 Command: E:\biocbuild\bbs-3.21-bioc\R\bin\R.exe CMD check --no-multiarch --install=check:DSS.install-out.txt --library=E:\biocbuild\bbs-3.21-bioc\R\library --no-vignettes --timings DSS_2.55.0.tar.gz StartedAt: 2025-02-10 00:41:50 -0500 (Mon, 10 Feb 2025) EndedAt: 2025-02-10 00:47:14 -0500 (Mon, 10 Feb 2025) EllapsedTime: 324.5 seconds RetCode: 0 Status: WARNINGS CheckDir: DSS.Rcheck Warnings: 1