Package: DTA Version: 2.53.0 Command: rm -rf DTA.buildbin-libdir && mkdir DTA.buildbin-libdir && /Users/biocbuild/BBS/utils/build-universal.sh DTA_2.53.0.tar.gz /Library/Frameworks/R.framework/Resources/bin/R DTA.buildbin-libdir StartedAt: 2025-02-09 22:12:58 -0500 (Sun, 09 Feb 2025) EndedAt: 2025-02-09 22:13:02 -0500 (Sun, 09 Feb 2025) EllapsedTime: 4.1 seconds RetCode: 0 Status: OK PackageFile: DTA_2.53.0.tgz PackageFileSize: 9.308 MiB