Package: DTA Version: 2.53.0 Command: /Library/Frameworks/R.framework/Resources/bin/R CMD build --keep-empty-dirs --no-resave-data DTA StartedAt: 2025-02-12 16:12:09 -0500 (Wed, 12 Feb 2025) EndedAt: 2025-02-12 16:13:53 -0500 (Wed, 12 Feb 2025) EllapsedTime: 104.1 seconds RetCode: 0 Status: OK PackageFile: DTA_2.53.0.tar.gz PackageFileSize: 9.036 MiB